BEGIN:VCALENDAR
VERSION:2.0
PRODID:icalendar-ruby
CALSCALE:GREGORIAN
METHOD:PUBLISH
BEGIN:VEVENT
DTSTAMP:20260419T155524Z
UID:12-399297@twc-life.com
DTSTART:20260823T130000Z
DTEND:20260823T140500Z
CLASS:PUBLIC
CREATED:20260419T090118
DESCRIPTION:In Sunday School and Small Groups all ages have a chance to dig
  a little deeper on how to make Jesus the Subject of our lives!
LAST-MODIFIED:20260419T090118
LOCATION:
SUMMARY:Sunday School
URL;VALUE=URI:https://www.twc-life.com/events/sunday-school/2026-08-23
ATTACH;FILENAME=smallgroups-27.jpg;FMTTYPE=image/jpeg:https://dq5pwpg1q8ru0
 .cloudfront.net/2024/10/25/11/58/24/aed989f9-eab4-4110-8327-b5b1e71e6465/s
 mallgroups-27.jpg
END:VEVENT
END:VCALENDAR
