BEGIN:VCALENDAR
VERSION:2.0
PRODID:icalendar-ruby
CALSCALE:GREGORIAN
METHOD:PUBLISH
BEGIN:VEVENT
DTSTAMP:20260421T102539Z
UID:10-402673@twc-life.com
DTSTART:20260726T141500Z
DTEND:20260726T153000Z
CLASS:PUBLIC
CREATED:20260420T210009
DESCRIPTION:
LAST-MODIFIED:20260420T210009
LOCATION:
SUMMARY:Sunday Worship
URL;VALUE=URI:https://www.twc-life.com/events/sunday-worship/2026-07-26
END:VEVENT
END:VCALENDAR
