BEGIN:VCALENDAR
VERSION:2.0
PRODID:icalendar-ruby
CALSCALE:GREGORIAN
METHOD:PUBLISH
BEGIN:VEVENT
DTSTAMP:20260421T115745Z
UID:10-402674@twc-life.com
DTSTART:20260802T141500Z
DTEND:20260802T153000Z
CLASS:PUBLIC
CREATED:20260420T210009
DESCRIPTION:
LAST-MODIFIED:20260420T210009
LOCATION:
SUMMARY:Sunday Worship
URL;VALUE=URI:https://www.twc-life.com/events/sunday-worship/2026-08-02
END:VEVENT
END:VCALENDAR
