BEGIN:VCALENDAR
VERSION:2.0
PRODID:icalendar-ruby
CALSCALE:GREGORIAN
METHOD:PUBLISH
BEGIN:VEVENT
DTSTAMP:20260421T131537Z
UID:10-402992@twc-life.com
DTSTART:20260809T141500Z
DTEND:20260809T153000Z
CLASS:PUBLIC
CREATED:20260421T080653
DESCRIPTION:
LAST-MODIFIED:20260421T080653
LOCATION:
SUMMARY:Sunday Worship
URL;VALUE=URI:https://www.twc-life.com/events/sunday-worship/2026-08-09
END:VEVENT
END:VCALENDAR
