BEGIN:VCALENDAR
VERSION:2.0
PRODID:icalendar-ruby
CALSCALE:GREGORIAN
METHOD:PUBLISH
BEGIN:VEVENT
DTSTAMP:20260421T144119Z
UID:10-402993@twc-life.com
DTSTART:20260816T141500Z
DTEND:20260816T153000Z
CLASS:PUBLIC
CREATED:20260421T080653
DESCRIPTION:
LAST-MODIFIED:20260421T080653
LOCATION:
SUMMARY:Sunday Worship
URL;VALUE=URI:https://www.twc-life.com/events/sunday-worship/2026-08-16
END:VEVENT
END:VCALENDAR
