BEGIN:VCALENDAR
VERSION:2.0
PRODID:icalendar-ruby
CALSCALE:GREGORIAN
METHOD:PUBLISH
BEGIN:VEVENT
DTSTAMP:20260421T160800Z
UID:10-403311@twc-life.com
DTSTART:20260823T141500Z
DTEND:20260823T153000Z
CLASS:PUBLIC
CREATED:20260421T104223
DESCRIPTION:
LAST-MODIFIED:20260421T104223
LOCATION:
SUMMARY:Sunday Worship
URL;VALUE=URI:https://www.twc-life.com/events/sunday-worship/2026-08-23
END:VEVENT
END:VCALENDAR
