BEGIN:VCALENDAR
VERSION:2.0
PRODID:icalendar-ruby
CALSCALE:GREGORIAN
METHOD:PUBLISH
BEGIN:VEVENT
DTSTAMP:20260421T173557Z
UID:10-403629@twc-life.com
DTSTART:20260830T141500Z
DTEND:20260830T153000Z
CLASS:PUBLIC
CREATED:20260421T132214
DESCRIPTION:
LAST-MODIFIED:20260421T132214
LOCATION:
SUMMARY:Sunday Worship
URL;VALUE=URI:https://www.twc-life.com/events/sunday-worship/2026-08-30
END:VEVENT
END:VCALENDAR
