BEGIN:VCALENDAR
VERSION:2.0
PRODID:icalendar-ruby
CALSCALE:GREGORIAN
METHOD:PUBLISH
BEGIN:VEVENT
DTSTAMP:20260422T004709Z
UID:10-404265@twc-life.com
DTSTART:20260913T141500Z
DTEND:20260913T153000Z
CLASS:PUBLIC
CREATED:20260421T183626
DESCRIPTION:
LAST-MODIFIED:20260421T183626
LOCATION:
SUMMARY:Sunday Worship
URL;VALUE=URI:https://www.twc-life.com/events/sunday-worship/2026-09-13
END:VEVENT
END:VCALENDAR
