BEGIN:VCALENDAR
VERSION:2.0
PRODID:icalendar-ruby
CALSCALE:GREGORIAN
METHOD:PUBLISH
BEGIN:VEVENT
DTSTAMP:20260422T023051Z
UID:10-404583@twc-life.com
DTSTART:20260920T141500Z
DTEND:20260920T153000Z
CLASS:PUBLIC
CREATED:20260421T211515
DESCRIPTION:
LAST-MODIFIED:20260421T211515
LOCATION:
SUMMARY:Sunday Worship
URL;VALUE=URI:https://www.twc-life.com/events/sunday-worship/2026-09-20
END:VEVENT
END:VCALENDAR
