BEGIN:VCALENDAR
VERSION:2.0
PRODID:icalendar-ruby
CALSCALE:GREGORIAN
METHOD:PUBLISH
BEGIN:VEVENT
DTSTAMP:20260422T040637Z
UID:10-404584@twc-life.com
DTSTART:20260927T141500Z
DTEND:20260927T153000Z
CLASS:PUBLIC
CREATED:20260421T211515
DESCRIPTION:
LAST-MODIFIED:20260421T211515
LOCATION:
SUMMARY:Sunday Worship
URL;VALUE=URI:https://www.twc-life.com/events/sunday-worship/2026-09-27
END:VEVENT
END:VCALENDAR
