BEGIN:VCALENDAR
VERSION:2.0
PRODID:icalendar-ruby
CALSCALE:GREGORIAN
METHOD:PUBLISH
BEGIN:VEVENT
DTSTAMP:20260422T124617Z
UID:10-404906@twc-life.com
DTSTART:20261101T151500Z
DTEND:20261101T163000Z
CLASS:PUBLIC
CREATED:20260422T082130
DESCRIPTION:
LAST-MODIFIED:20260422T082130
LOCATION:
SUMMARY:Sunday Worship
URL;VALUE=URI:https://www.twc-life.com/events/sunday-worship/2026-11-01
END:VEVENT
END:VCALENDAR
