BEGIN:VCALENDAR
VERSION:2.0
PRODID:icalendar-ruby
CALSCALE:GREGORIAN
METHOD:PUBLISH
BEGIN:VEVENT
DTSTAMP:20260421T072226Z
UID:13-402882@twc-life.com
DTSTART:20260708T223000Z
DTEND:20260708T233000Z
CLASS:PUBLIC
CREATED:20260420T210010
DESCRIPTION:All ages in our church set aside one hour every week to not jus
 t gloss in over God's Word but get in to what being a true disciple of Jes
 us means. We have men's and women's groups. We have teen and children grou
 ps. Videos\, skits\, work books all are used as we open up our Bibles to b
 ring alive what liiving out Jesus as our Subject really means.
LAST-MODIFIED:20260420T210010
LOCATION:
SUMMARY:Wednesday Night Discipleship
URL;VALUE=URI:https://www.twc-life.com/events/wednesday-night-discipleship/
 2026-07-08
ATTACH;FILENAME=1j40.jpg;FMTTYPE=image/jpeg:https://dq5pwpg1q8ru0.cloudfron
 t.net/2024/10/25/12/21/19/d4176289-fb93-44f1-ad1e-20f62bdfa21e/1j40.jpg
END:VEVENT
END:VCALENDAR
